BEGIN:VCALENDAR
VERSION:2.0
PRODID:-//Ajax - ECPv6.15.17.1//NONSGML v1.0//EN
CALSCALE:GREGORIAN
METHOD:PUBLISH
X-WR-CALNAME:Ajax
X-ORIGINAL-URL:https://ajax.cinnamonstaging.ca
X-WR-CALDESC:Events for Ajax
REFRESH-INTERVAL;VALUE=DURATION:PT1H
X-Robots-Tag:noindex
X-PUBLISHED-TTL:PT1H
BEGIN:VTIMEZONE
TZID:UTC
BEGIN:STANDARD
TZOFFSETFROM:+0000
TZOFFSETTO:+0000
TZNAME:UTC
DTSTART:20250101T000000
END:STANDARD
END:VTIMEZONE
BEGIN:VEVENT
DTSTART;TZID=UTC:20260512T080000
DTEND;TZID=UTC:20260513T170000
DTSTAMP:20260420T080300
CREATED:20260107T224854Z
LAST-MODIFIED:20260107T224854Z
UID:10000001-1778572800-1778691600@ajax.cinnamonstaging.ca
SUMMARY:Truth and Reconciliation
DESCRIPTION:
URL:https://ajax.cinnamonstaging.ca/event/truth-and-reconciliation
ATTACH;FMTTYPE=image/jpeg:https://ajax.cinnamonstaging.ca/wp-content/uploads/2026/01/AJAX-PUMPKINVILLE-87-5.jpg
END:VEVENT
BEGIN:VEVENT
DTSTART;TZID=UTC:20261001T000000
DTEND;TZID=UTC:20261012T000000
DTSTAMP:20260420T080300
CREATED:20260107T225140Z
LAST-MODIFIED:20260420T010215Z
UID:10000004-1790812800-1791763200@ajax.cinnamonstaging.ca
SUMMARY:Pumpkinville
DESCRIPTION:
URL:https://ajax.cinnamonstaging.ca/event/pumpkinville
ATTACH;FMTTYPE=image/jpeg:https://ajax.cinnamonstaging.ca/wp-content/uploads/2026/01/AJAX-PUMPKINVILLE.jpg
END:VEVENT
END:VCALENDAR